BEGIN:VCALENDAR
VERSION:2.0
PRODID:-//Sperlingsbergschule in Kirchberg - ECPv6.15.20//NONSGML v1.0//EN
CALSCALE:GREGORIAN
METHOD:PUBLISH
X-WR-CALNAME:Sperlingsbergschule in Kirchberg
X-ORIGINAL-URL:https://www.sperlingsbergschule.de
X-WR-CALDESC:Veranstaltungen für Sperlingsbergschule in Kirchberg
REFRESH-INTERVAL;VALUE=DURATION:PT1H
X-Robots-Tag:noindex
X-PUBLISHED-TTL:PT1H
BEGIN:VTIMEZONE
TZID:Europe/Berlin
BEGIN:DAYLIGHT
TZOFFSETFROM:+0100
TZOFFSETTO:+0200
TZNAME:CEST
DTSTART:20250330T010000
END:DAYLIGHT
BEGIN:STANDARD
TZOFFSETFROM:+0200
TZOFFSETTO:+0100
TZNAME:CET
DTSTART:20251026T010000
END:STANDARD
BEGIN:DAYLIGHT
TZOFFSETFROM:+0100
TZOFFSETTO:+0200
TZNAME:CEST
DTSTART:20260329T010000
END:DAYLIGHT
BEGIN:STANDARD
TZOFFSETFROM:+0200
TZOFFSETTO:+0100
TZNAME:CET
DTSTART:20261025T010000
END:STANDARD
BEGIN:DAYLIGHT
TZOFFSETFROM:+0100
TZOFFSETTO:+0200
TZNAME:CEST
DTSTART:20270328T010000
END:DAYLIGHT
BEGIN:STANDARD
TZOFFSETFROM:+0200
TZOFFSETTO:+0100
TZNAME:CET
DTSTART:20271031T010000
END:STANDARD
END:VTIMEZONE
BEGIN:VEVENT
DTSTART;TZID=Europe/Berlin:20260420T080000
DTEND;TZID=Europe/Berlin:20260423T123000
DTSTAMP:20260421T195249
CREATED:20260313T094233Z
LAST-MODIFIED:20260313T094233Z
UID:5140-1776672000-1776947400@www.sperlingsbergschule.de
SUMMARY:Schuluntersuchung Kl. 2\, 4\, 6a\, 6b\, 8a\, 8b
DESCRIPTION:
URL:https://www.sperlingsbergschule.de/termine/schuluntersuchung-kl-2-4-6a-6b-8a-8b/
END:VEVENT
BEGIN:VEVENT
DTSTART;TZID=Europe/Berlin:20260421T083000
DTEND;TZID=Europe/Berlin:20260421T123000
DTSTAMP:20260421T195249
CREATED:20260224T085205Z
LAST-MODIFIED:20260224T085205Z
UID:5087-1776760200-1776774600@www.sperlingsbergschule.de
SUMMARY:Drogenparcours Kl. 9 in Crimmitschau
DESCRIPTION:
URL:https://www.sperlingsbergschule.de/termine/drogenparcours-kl-9-in-crimmitschau/
END:VEVENT
BEGIN:VEVENT
DTSTART;TZID=Europe/Berlin:20260421T083500
DTEND;TZID=Europe/Berlin:20260421T112000
DTSTAMP:20260421T195249
CREATED:20260224T081938Z
LAST-MODIFIED:20260224T081938Z
UID:5085-1776760500-1776770400@www.sperlingsbergschule.de
SUMMARY:gelebte Suchtprävention Kl. 7
DESCRIPTION:
URL:https://www.sperlingsbergschule.de/termine/gelebte-suchtpraevention-kl-7/
END:VEVENT
END:VCALENDAR